BEGIN:VCALENDAR
VERSION:2.0
PRODID:-//wp-events-plugin.com//7.2.3.1//EN
TZID:Europe/Berlin
X-WR-TIMEZONE:Europe/Berlin
BEGIN:VEVENT
UID:11@mz-rosstal.de
DTSTART;TZID=Europe/Berlin:20240908T110000
DTEND;TZID=Europe/Berlin:20240908T170000
DTSTAMP:20240404T103213Z
URL:https://mz-rosstal.de/events/museumshoffest/
SUMMARY:Museumshoffest
DESCRIPTION:Kooperationen mit dem Heimatverein Markt Roßtal&nbsp\;\n\nim M
 useumshof\, Schulstr. 13\, Roßtal&nbsp\;
CATEGORIES:normaler Auftritt
END:VEVENT
BEGIN:VTIMEZONE
TZID:Europe/Berlin
X-LIC-LOCATION:Europe/Berlin
BEGIN:DAYLIGHT
DTSTART:20240331T030000
TZOFFSETFROM:+0100
TZOFFSETTO:+0200
TZNAME:CEST
END:DAYLIGHT
END:VTIMEZONE
END:VCALENDAR