BEGIN:VCALENDAR
VERSION:2.0
PRODID:-//wp-events-plugin.com//7.2.3.1//EN
TZID:Europe/Berlin
X-WR-TIMEZONE:Europe/Berlin
BEGIN:VEVENT
UID:4@mz-rosstal.de
DTSTART;TZID=Europe/Berlin:20240310T150000
DTEND;TZID=Europe/Berlin:20240310T170000
DTSTAMP:20240402T165804Z
URL:https://mz-rosstal.de/events/jahreshauptversammlung-2024/
SUMMARY:Jahreshauptversammlung 2024
DESCRIPTION:
CATEGORIES:normaler Auftritt
END:VEVENT
BEGIN:VTIMEZONE
TZID:Europe/Berlin
X-LIC-LOCATION:Europe/Berlin
BEGIN:STANDARD
DTSTART:20231029T020000
TZOFFSETFROM:+0200
TZOFFSETTO:+0100
TZNAME:CET
END:STANDARD
END:VTIMEZONE
END:VCALENDAR