BEGIN:VCALENDAR
VERSION:2.0
PRODID:-//wp-events-plugin.com//7.2.3.1//EN
TZID:Europe/Berlin
X-WR-TIMEZONE:Europe/Berlin
BEGIN:VEVENT
UID:8@mz-rosstal.de
DTSTART;TZID=Europe/Berlin:20240428T150000
DTEND;TZID=Europe/Berlin:20240428T170000
DTSTAMP:20240404T082428Z
URL:https://mz-rosstal.de/events/grafflmarkt/
SUMMARY:Grafflmarkt
DESCRIPTION:Roschtler Graffelmarkt &nbsp\;10:00 - 17:00 Uhr\n\nim Pfarrgart
 en St.-Laurentius Roßtal\, Schulstraße. 17\n\n&nbsp\;
CATEGORIES:normaler Auftritt
END:VEVENT
BEGIN:VTIMEZONE
TZID:Europe/Berlin
X-LIC-LOCATION:Europe/Berlin
BEGIN:DAYLIGHT
DTSTART:20240331T030000
TZOFFSETFROM:+0100
TZOFFSETTO:+0200
TZNAME:CEST
END:DAYLIGHT
END:VTIMEZONE
END:VCALENDAR