BEGIN:VCALENDAR
VERSION:2.0
PRODID:-//wp-events-plugin.com//7.2.3.1//EN
TZID:Europe/Berlin
X-WR-TIMEZONE:Europe/Berlin
BEGIN:VEVENT
UID:9@mz-rosstal.de
DTSTART;TZID=Europe/Berlin:20240512T150000
DTEND;TZID=Europe/Berlin:20240512T170000
DTSTAMP:20240418T083253Z
URL:https://mz-rosstal.de/events/fruehjahrskonzert/
SUMMARY:Mai-Konzert
DESCRIPTION:Motto:\n\nMit schönen Melodien um die Welt&nbsp\;\n\nin der Au
 la der Mittelschule Roßtal
CATEGORIES:Konzert
END:VEVENT
BEGIN:VTIMEZONE
TZID:Europe/Berlin
X-LIC-LOCATION:Europe/Berlin
BEGIN:DAYLIGHT
DTSTART:20240331T030000
TZOFFSETFROM:+0100
TZOFFSETTO:+0200
TZNAME:CEST
END:DAYLIGHT
END:VTIMEZONE
END:VCALENDAR