BEGIN:VCALENDAR
VERSION:2.0
PRODID:-//wp-events-plugin.com//7.2.3.1//EN
TZID:Europe/Berlin
X-WR-TIMEZONE:Europe/Berlin
BEGIN:VEVENT
UID:15@mz-rosstal.de
DTSTART;TZID=Europe/Berlin:20240609T140000
DTEND;TZID=Europe/Berlin:20240609T160000
DTSTAMP:20240525T153523Z
URL:https://mz-rosstal.de/events/festumzug-125-jahre-ffw-dietersdorf/
SUMMARY:Festumzug 125 Jahre FFW Dietersdorf
DESCRIPTION:
END:VEVENT
BEGIN:VTIMEZONE
TZID:Europe/Berlin
X-LIC-LOCATION:Europe/Berlin
BEGIN:DAYLIGHT
DTSTART:20240331T030000
TZOFFSETFROM:+0100
TZOFFSETTO:+0200
TZNAME:CEST
END:DAYLIGHT
END:VTIMEZONE
END:VCALENDAR